Workbook
Name Print_Area: 'Tuzemské cestovné'!$A$1:$M$59
Name Print_Area: 'Zahraniční cestovné'!$A$1:$L$116
Name Print_Area: 'Zahraniční cestovné_příloha'!$A$1:$L$118
Name zeme: Zahr.stravné_2026!#REF!

Sheet Tuzemské cestovné
A2: VYÚČTOVÁNÍ TUZEMSKÉ PRACOVNÍ CESTY | P2: POKYNY K VYPLNĚNÍ
A4: Firma: | P4: Prosím, na tomto listu vyplňujte pouze bílá pole.
A5: Účastník služební cesty:
A6: Místo jednání: | P6: Firma: název zaměstnavatele | V6: VZOR vyplněného tuzemského příkazu
A7: Účel cesty: | P7: Účastník: zaměstnanec
C9: Datum | F9: Čas | P9: Datum ve formátu DD.MM.RRRR | T9: ! Pokud nejsou datum a čas vyplněné ve správném formátu,
A10: Zahájení cesty dne: | E10: v | G10: hodin | I10: pod 5 hod. | J10: 5-12 hod | K10: 12-18 hod | P10: Časový formát H:MM (24) | T10: nárok na stravné se spočítá CHYBNĚ!
A11: Trvání cesty první den | E11: hodin | F11: =IF(C13=1,(C12+F12)-(C10+F10),24-F10) -> 0 | G11: hodin | I11: =IF((HOUR($F11)+MINUTE($F11)/60)<5,1,0) -> 1 | J11: =IF((HOUR($F11)+MINUTE($F11)/60)<=12,1,0)-I11 -> 0 | K11: =IF((HOUR($F11)+MINUTE($F11)/60)<=18,1,0)-J11-I11 -> 0
A12: Ukončení cesty dne: | E12: v | G12: hodin | I12: =IF(AND(C13>1,(HOUR($F12)+MINUTE($F12)/60)<5),1,0) -> 0 | J12: =IF(AND(C13>1,(HOUR($F12)+MINUTE($F12)/60)<=12),1,0)-I12 -> 0 | K12: =IF(AND(C13>1,(HOUR($F12)+MINUTE($F12)/60)<=18),1,0)-J12-I12 -> 0 | P12: Je-li při služební cestě použito soukromé vozidlo zaměstnance, je nedílnou součástí vyúčtování
A13: Trvání cesty | C13: =$C$12-$C$10+1 -> 1 | E13: =IF(C13<5,"dny","dní") -> dny | P13: "Výpočet náhrad za použití soukromého vozidla" (list Soukromé vozidlo).
A15: Způsob dopravy:
A16: RZ služeb.vozidla:
P18: VÝPOČET STRAVNÉHO:
F19: Počet poskytnutých jídel | P19: Poskytuje-li zaměstnavatel zaměstnanci na služební cestě bezplatně jídlo, které má charakter snídaně, oběda nebo večeře
A20: STRAVNÉ | C20: počet dnů | E20: zák.limit | F20: snídaně | G20: oběd | H20: večeře | I20: krácení za snídani | J20: krácení za oběd | K20: krácení za večeři | L20: Celkem (Kč) | P20: v jakékoliv formě (např. hotelová snídaně), nárok na stravné se krátí v závislosti na počtu takových jídel.
A21: 5-12 hodin | C21: =SUM(J11:J12) -> 0 | D21: x | E21: 155 | I21: =F21*0.7*$E21 -> 0 | J21: =G21*0.7*$E21 -> 0 | K21: =H21*0.7*$E21 -> 0 | L21: =MAX(0,C21*E21-I21-J21-K21) -> 0
A22: více než 12 max.18 hod. | C22: =SUM(K11:K12) -> 0 | D22: x | E22: 236 | I22: =F22*0.35*$E22 -> 0 | J22: =G22*0.35*$E22 -> 0 | K22: =H22*0.35*$E22 -> 0 | L22: =MAX(0,C22*E22-I22-J22-K22) -> 0 | P22: Je třeba doplnit číslicí počet jídel hrazených zaměstnavatelem (př. 2 snídaně, 1 oběd, apod.)
A23: více než 18 hodin | C23: =C13-C21-C22-I11-I12 -> 0 | D23: x | E23: 370 | I23: =F23*0.25*$E23 -> 0 | J23: =G23*0.25*$E23 -> 0 | K23: =H23*0.25*$E23 -> 0 | L23: =MAX(0,C23*E23-I23-J23-K23) -> 0 | P23: Počet poskytnutých jídel však NEMŮŽE převýšit počet dnů na řádku
A24: Celkem stravné | C24: =SUM(C21:C23) -> 0 | H24: zaokrouhleno na Kč | L24: =ROUND(SUM(L21:L23),0) -> 0 | P24: (př.počet dnů = 1, počet snídaní/jídel MŮŽE být max 1)
A26: OSTATNÍ VÝDAJE (hrazené zaměstnancem) | L26: Celkem (Kč) | P26: OSTATNÍ VÝDAJE (hrazené zaměstnancem)
A27: 1. Náhrada za použití soukromého vozidla | L27: =IF(C15="Soukromým vozidlem",+'Soukromé vozidlo'!D20,0) -> 0 | P27: Do této tabulky se vyplňují pouze výdaje hrazené zaměstnancem z jeho soukromých prostředků.
A28: 2. Ubytování | L28: 0
A29: 3. Ostatní (jízdné, taxi, aj.) | L29: 0 | P29: Zde je třeba vyplnit hodnotu ostatních výdajů souvisejících s pracovní/služební cestou, které hradil zaměstnanec ze svého.
L30: 0 | P30: Může se jednat např. o ubytování v hotelu, jízdenky, taxi apod.
L31: 0
L32: 0 | P32: Náhrada za použití soukromého vozdila se doplní automaticky dle vyplněné přílohy "Soukromé vozidlo".
A33: Celkem ostatní výdaje | L33: =CEILING(SUM(L27:L32),1) -> 0
A35: CELKEM vyúčtováno | L35: =L24+L33 -> 0 | P35: Pole "přijatá záloha" se vyplní tehdy, byla-li poskytnuta před nástupem na pracovní
A36: záloha vyplacená zaměstnanci (vyplňuje se se záporným znaménkem) | L36: 0 | P36: cestu záloha v hotovosti/na účet.
A37: Rozdíl (přeplatek - /nedoplatek +) | L37: =SUM(L35:L36) -> 0 | P37: Pokud byla poskytnuta záloha, je nutné tento údaj do pole zapsat se záporným znaménkem!
A39: Počet příloh: ….......................
P40: Kopie dokladů (stvrzenky) tvoří nedílnou součást vyúčtování pracovní cesty!
A41: Vypracoval dne:
P44: ř.Rozdíl
P45: nedoplatek - je nárok zaměstnance (k výplatě)
A46: Schvaluji pracovní cestu | P46: přeplatek - zaměstnanec vrací zaměstnavateli
A47: a souhlasím s výší vyúčtování.
P48: Vyúčtování pracovní cesty je třeba řádně a pečlivě vyplnit.
A52: OSTATNÍ VÝDAJE (hrazené zaměstnavatelem) | P52: OSTATNÍ VÝDAJE (hrazené zaměstnavatelem)
A53: Dodavatel | B53: Datum | C53: VS | E53: WF - ID | F53: Typ výdaje | L53: Celkem (Kč)
L54: 0 | P54: Do této tabulky se vyplní informace o všech dokladech/výdajích hrazených zaměstnavatelem,
L55: 0 | P55: které jsou evidované v účetnictví mimo vyúčtování pracovní cesty, avšak s cestou nákladově souvisí
L56: 0
L57: 0 | P57: Sl. "Typ výdaje" např.ubytování, jízdenky, taxi, aj.
L58: 0
A59: Celkem ostatní výdaje | L59: =CEILING(SUM(L54:L58),1) -> 0 | P59: KDY JE NÁROK NA STRAVNÉ/"DIETY":
P60: - pokud pracovník uplatňuje nárok na stravné, doklady za občerstvení, hrazené ze "svého" do vyúčtování nevkládá
A61: Vyúčtování za pracovní cestu celkem | L61: =+L59+L35 -> 0 | P61: - pokud pracovník ať už ze "svého" či firemní kartou hradí pohoštění klienta/investora/externisty a sám se takového občerstvení účastní,
P62: musí o toto jídlo pokrátit nárok na stravné a doklad uvést do příslušné tabulky vyúčtování (ze svého -> hrazené zam-cem, firemní karta -> hrazené zam-elem
P67: - pokud pracovník uplatňuje nárok na stravné NELZE firemní kartou hradit občerstvení pro sebe. pokud se však stane, musí stravné o toto jídlo pokrátit
A68: Způsob dopravy
A69: Služebním vozidlem
A70: Spolujezdec
A71: Soukromým vozidlem
A72: Hromadnou dopravou
A73: Létadlem
A74: Služebním bicyklem
A75: Soukromým bicyklem
A76: Pěšky
A77: Jinak

Sheet Zahraniční cestovné
A3: VYÚČTOVÁNÍ ZAHRANIČNÍ PRACOVNÍ CESTY | S3: POKYNY K VYPLNĚNÍ | X3: S přílohou
A6: Země: | E6: Zkratka měny: | F6: =VLOOKUP($B$6,Zahr.stravné_2026!A1:D179,2,FALSE) -> #N/A | K6: Kurz | S6: Prosím, na tomto listu vyplňujte pouze bílá pole.
A8: Firma: | S8: Firma: název zaměstnavatele
A9: Účastník služební cesty: | S9: Účastník: zaměstnanec | X9: VZOR vyplněného zahraničního příkazu
A10: Spolucestující:
A11: Místo jednání: | S11: Pole "Zkratka měny" se doplní automaticky dle vybrané země (z rozevíracího seznamu v buňce B6)
A12: Účel cesty: | S12: Pole "Kurz" - dle měny doplníme kurz ČNB ke dni zahájení cesty, případně ke dni poskytnutí zálohy, byla-li poskytnuta.
C14: Datum | E14: Čas | H14: Nárok tuzemské stravné | S14: Datum ve formátu DD.MM.RRRR | W14: ! Pokud nejsou datum a čas vyplněné ve správném formátu,
A15: Zahájení cesty dne: | D15: v | F15: hod. | H15: =IF(C16=C15,HOUR(E16-E15)+MINUTE(E16-E15)/60,HOUR(24-E15)+MINUTE(24-E15)/60+HOUR(E16)+MINUTE(E16)/60) -> 0 | I15: =IF(H15>=5,"ANO","NE") -> NE | S15: Časový formát H:MM (24) | W15: nárok na stravné se spočítá CHYBNĚ!
A16: Překročení hranice ČR (odlet) dne: | D16: v | F16: hod.
S17: Pole "Zahájení cesty dne" - zde je třeba vyplnit den, kdy pracovní cestu začínáte, včetně časového údaje.
A18: Překročení hranice ČR (přílet) dne: | D18: v | F18: hod. | H18: =IF(C19=C18,HOUR(E19-E18)+MINUTE(E19-E18)/60,HOUR(24-E18)+MINUTE(24-E18)/60+HOUR(E19)+MINUTE(E19)/60) -> 0 | I18: =IF(H18>=5,"ANO","NE") -> NE | S18: Pole "Překročení hranice ČR (odlet) dne" - v případě pozemní dopravy (auto, vlak, bus, kolo, pěšky …), doplníte den
A19: Ukončení cesty dne: | D19: v | F19: hod. | S19: a čas faktického překročení státních hranic; pokud cestujete letadlem, případně lodí - vyplňujete datum i čas ODLETU/ODJEZDU
S20: dle letenky/lodního lístku. Obdobně platí i pro "přílet" - datum a čas odletu/odjezdu z navštívené země.
A21: Způsob dopravy: | S21: Pole "Způsob dopravy" - lze vybrat z rozevíracího seznamu
A22: RZ služeb.vozidla:
A25: Uskutečnila se zahraniční služební cesta do více států ? | F25: =IF(E25="ANO"," PŘÍLOHA!!!"," ") | S25: Pokud zaměstnanec projíždí v 1 den více státy, výši zahraničního stravného určí zaměstnavatel
S26: ze základní sazby zahraničního stravného sjednané nebo stanovené pro stát, ve kterém
H27: První den zahájení/ukončení | L27: Poslední den zahájení/ukončení
A28: Trvání zahraniční cesty včetně dní příjezdu a odjezdu: | F28: =C19-C15+1 -> 1 | H28: pod 5 hod. | I28: 5-12 hod | J28: 12-18 hod | K28: nad 18 | L28: pod 5 hod. | M28: 5-12 hod | N28: 12-18 hod | O28: nad 18
A29: Trvání tuzemské cesty při zahájení | F29: =C16-C15 -> 0 | G29: =IF(F29=0,(C16+E16)-(C15+E15)+IF(D39=0,C39/24,0),24-E15) -> 0 | H29: =IF((HOUR($G29)+MINUTE($G29)/60)<5,1,0) -> 1 | I29: =IF((HOUR($G29)+MINUTE($G29)/60)<=12,1,0)-H29 -> 0 | J29: =IF((HOUR($G29)+MINUTE($G29)/60)<=18,1,0)-I29-H29 -> 0 | K29: =IF((HOUR($G29)+MINUTE($G29)/60)>18,1,0) -> 0 | L29: =IF(AND($F$29>0,(HOUR($E$16)+MINUTE($E$16)/60+IF(D39=0,C39,0))<5),1,0) -> 0 | M29: =IF(AND($F$29>0,(HOUR($E$16)+MINUTE($E$16)/60+IF(D39=0,C39,0))<=12),1,0)-L29 -> 0 | N29: =IF(AND($F$29>0,(HOUR($E$16)+MINUTE($E$16)/60+IF(D39=0,C39,0))<=18),1,0)-L29-M29 -> 0 | O29: =IF(AND($F$29>0,(HOUR($E$16)+MINUTE($E$16)/60+IF(D39=0,C39,0))>18),1,0) -> 0 | P29: =SUM(H29:O29)-1 -> 0
A30: Trvání tuzemské cesty při ukončení | F30: =C19-C18 -> 0 | G30: =IF(F30=0,(C19+E19)-(C18+E18)+IF(D41=0,C41/24,0),24-E18) -> 0 | H30: =IF((HOUR($G30)+MINUTE($G30)/60)<5,1,0) -> 1 | I30: =IF((HOUR($G30)+MINUTE($G30)/60)<=12,1,0)-H30 -> 0 | J30: =IF((HOUR($G30)+MINUTE($G30)/60)<=18,1,0)-I30-H30 -> 0 | K30: =IF((HOUR($G30)+MINUTE($G30)/60)>18,1,0) -> 0 | L30: =IF(AND($F$30>0,(HOUR($E$19)+MINUTE($E$19)/60+IF(D41=0,C41,0))<5),1,0) -> 0 | M30: =IF(AND($F$30>0,(HOUR($E$19)+MINUTE($E$19)/60+IF(D41=0,C41,0))<=12),1,0)-L30 -> 0 | N30: =IF(AND($F$30>0,(HOUR($E$19)+MINUTE($E$19)/60+IF(D41=0,C41,0))<=18),1,0)-L30-M30 -> 0 | O30: =IF(AND($F$30>0,(HOUR($E$19)+MINUTE($E$19)/60+IF(D41=0,C41,0))>18),1,0) -> 0 | P30: =SUM(H30:O30)-1 -> 0
G31: =IF(C15=C18,SUM(G29:G30),0) -> 0 | H31: =IF((HOUR($G31)+MINUTE($G31)/60)<5,1,0) -> 1 | I31: =IF((HOUR($G31)+MINUTE($G31)/60)<=12,1,0)-H31 -> 0 | J31: =IF((HOUR($G31)+MINUTE($G31)/60)<=18,1,0)-I31-H31 -> 0 | K31: =IF((HOUR($G31)+MINUTE($G31)/60)>18,1,0) -> 0 | L31: =IF(AND($F$30>0,(HOUR($E$19)+MINUTE($E$19)/60)<5),1,0) -> 0 | M31: =IF(AND($F$30>0,(HOUR($E$19)+MINUTE($E$19)/60)<=12),1,0)-L31 -> 0 | N31: =IF(AND($F$30>0,(HOUR($E$19)+MINUTE($E$19)/60)<=18),1,0)-L31-M31 -> 0 | O31: =IF(AND($F$30>0,(HOUR($E$19)+MINUTE($E$19)/60)>18),1,0) -> 0 | P31: =SUM(H31:O31) -> 1
S32: zaměstnanec stráví v kalendářním dni nejvíce času.
A33: Zahraniční část cestovních náhrad | S33: V případě SC do více zemí, je NUTNÉ vyplnit list "Zahraniční cestovné_PŘÍLOHA",
S34: který poté tvoří nedílnou součást Vyúčtování zahraniční pracovní cesty.
A35: Základní sazba stravného v cizí měně: | D35: =VLOOKUP($B$6,Zahr.stravné_2026!A1:D179,4,FALSE) -> #N/A | E35: =+F6 -> #N/A
S36: Pole "Základní sazba stravného v cizí měně" - doplní se automaticky dle vybrané Země!
A37: =IF($E$25="ANO","V případě SC do více zemí, NUTNÉ vyplnit list ZC_PŘÍLOHA"," ") | E37: Počet poskytnutých jídel | H37: Krácení stravného za
A38: Dny | B38: počet dnů | C38: počet hodin | D38: stravné | E38: snídaně | F38: oběd | G38: večeře | H38: snídaně | I38: oběd | J38: večeře | K38: Celkem | S38: Poskytuje-li zaměstnavatel zaměstnanci na služební cestě bezplatně jídlo, které má charakter snídaně, oběda nebo večeře
A39: den zahájení prac. cesty | B39: 1 | C39: =IF(C16=C18,HOUR(E18-E16)+MINUTE(E18-E16)/60,HOUR(24-E16)+MINUTE(24-E16)/60) -> 0 | D39: =IF(C39>18,$D$35,IF(C39>12,$D$35/3*2,IF(OR(AND(I15="ANO",C39>5),AND(I15="NE",C39>=1)),$D$35/3,0))) -> 0 | H39: =IF(E39=0,0,E39*$D39*IF($D39/$D$35=1,0.25,IF($D39/$D$35=2/3,0.35,0.7))) -> 0 | I39: =IF(F39=0,0,F39*$D39*IF($D39/$D$35=1,0.25,IF($D39/$D$35=2/3,0.35,0.7))) -> 0 | J39: =IF(G39=0,0,G39*$D39*IF($D39/$D$35=1,0.25,IF($D39/$D$35=2/3,0.35,0.7))) -> 0 | K39: =IF($E$25="ANO",0,MAX(0,B39*D39-H39-I39-J39)) -> 0 | L39: =$E$35 -> #N/A | S39: v jakékoliv formě (např. hotelová snídaně), nárok na stravné se krátí v závislosti na počtu takových jídel.
A40: dny cesty delší 18 h/den | B40: =IF(C18-C16>1,C18-C16-1,0) -> 0 | C40: x | D40: =IF(B40=0,0,B40*D35) -> 0 | H40: =IF(E40=0,0,E40*$D$35*0.25) -> 0 | I40: =IF(F40=0,0,F40*$D$35*0.25) -> 0 | J40: =IF(G40=0,0,G40*$D$35*0.25) -> 0 | K40: =IF($E$25="ANO",0,MAX(0,D40-H40-I40-J40)) -> 0 | L40: =$E$35 -> #N/A
A41: den ukončení prac.cesty | B41: =IF(C18-C16>=1,1,0) -> 0 | C41: =IF(B41=0,0,HOUR(E18)+MINUTE(E18)/60) -> 0 | D41: =IF(C41>18,$D$35,IF(C41>12,$D$35/3*2,IF(OR(AND(I18="ANO",C41>5),AND(I18="NE",C41>=1)),$D$35/3,0))) -> 0 | H41: =IF(E41=0,0,E41*$D41*IF($D41/$D$35=1,0.25,IF($D41/$D$35=2/3,0.35,0.7))) -> 0 | I41: =IF(F41=0,0,F41*$D41*IF($D41/$D$35=1,0.25,IF($D41/$D$35=2/3,0.35,0.7))) -> 0 | J41: =IF(G41=0,0,G41*$D41*IF($D41/$D$35=1,0.25,IF($D41/$D$35=2/3,0.35,0.7))) -> 0 | K41: =IF($E$25="ANO",0,MAX(0,D41-H41-I41-J41)) -> 0 | L41: =$E$35 -> #N/A | S41: Je třeba doplnit číslicí počet jídel hrazených zaměstnavatelem (př. 2 snídaně, 1 oběd, apod.)
A42: Celkem stravné | B42: =SUM(B39:B41) -> 1 | D42: =SUM(D39:D41) -> 0 | E42: =SUM(E39:E41) -> 0 | F42: =SUM(F39:F41) -> 0 | G42: =SUM(G39:G41) -> 0 | H42: =SUM(H39:H41) -> 0 | I42: =SUM(I39:I41) -> 0 | J42: =SUM(J39:J41) -> 0 | K42: =SUM(K39:K41) -> 0 | L42: =$E$35 -> #N/A | S42: Počet poskytnutých jídel však NEMŮŽE převýšit počet dnů na řádku
A43: Kapesné ve výši | C43: % | K43: =IF($E$25="ANO",0,D42*B43) -> 0 | L43: =$E$35 -> #N/A | S43: (př.počet dnů = 1, počet snídaní/jídel MŮŽE být max 1)
A44: Celkem stravné a kapesné v cizí měně | K44: =K42+K43 -> 0 | L44: =$E$35 -> #N/A | S44: Zaměstnavatel může, ale nemusí, poskytnout účastníku SC kapesné (max.výše 40% z hodnoty zahr.stravného)
S45: Vyplňuje se v procentech.
A46: OSTATNÍ VÝDAJE PODLE MĚN (hrazené zaměstnancem) | E46: Měna | F46: Částka (měna) | G46: Kurz | K46: Částka CZK
K47: =F47*G47 -> 0 | L47: CZK | S47: OSTATNÍ VÝDAJE (hrazené zaměstnancem)
K48: =F48*G48 -> 0 | L48: CZK | S48: Zde je třeba vyplnit hodnotu ostatních výdajů souvisejících s pracovní/služební cestou, které hradil zaměstnanec ze svého.
K49: =F49*G49 -> 0 | L49: CZK | S49: Může se jednat např. o ubytování v hotelu, jízdenky, taxi apod.
K50: =F50*G50 -> 0 | L50: CZK | S50: Do této tabulky se vyplňují pouze výdaje hrazené zaměstnancem z jeho soukromých prostředků.
K51: =F51*G51 -> 0 | L51: CZK | S51: Kopie dokladů (stvrzenky) tvoří nedílnou součást vyúčtování pracovní cesty!
K52: =F52*G52 -> 0 | L52: CZK
A53: Celkem vyúčtováno v cizí měně | K53: =SUM(K47:K52) -> 0 | L53: CZK
A55: Tuzemská část cestovních náhrad
E56: Počet poskytnuných jídel
A57: STRAVNÉ | B57: počet dnů | D57: zák.limit | E57: snídaně | F57: oběd | G57: večeře | H57: krácení za snídani | I57: krácení za oběd | J57: krácení za večeři | K57: Celkem (Kč)
A58: 5-12 hodin | B58: =IF(C18-C15=0,SUM(I31,M29:M30),SUM(I29:I30,M29:M30)) -> 0 | C58: x | D58: 155 | H58: =E58*0.7*$D58 -> 0 | I58: =F58*0.7*$D58 -> 0 | J58: =G58*0.7*$D58 -> 0 | K58: =MAX(0,B58*D58-H58-I58-J58) -> 0 | L58: CZK
A59: 12-18 hodin | B59: =IF(C18=C15,SUM(J31,N29:N30),J29+J30+N29+N30) -> 0 | C59: x | D59: 236 | H59: =E59*0.35*$D59 -> 0 | I59: =F59*0.35*$D59 -> 0 | J59: =G59*0.35*$D59 -> 0 | K59: =MAX(0,B59*D59-H59-I59-J59) -> 0 | L59: CZK
A60: 18 a více hodin | B60: =IF(C18=C15,SUM(K31,O29:O30)+F29-P29+F30-P30,SUM(K29:K30)+SUM(O29:O30)+F29-P29+F30-P30) -> 0 | C60: x | D60: 370 | H60: =E60*0.25*$D60 -> 0 | I60: =F60*0.25*$D60 -> 0 | J60: =G60*0.25*$D60 -> 0 | K60: =MAX(0,B60*D60-H60-I60-J60) -> 0 | L60: CZK
A61: Celkem stravné v CZK | B61: =SUM(B58:B60) -> 0 | G61: zaokrouhleno na Kč | K61: =ROUND(SUM(K58:K60),0) -> 0 | L61: CZK
A63: OSTATNÍ VÝDAJE V TUZEMSKU (hrazené zaměstnancem) | K63: Celkem (Kč) | S63: OSTATNÍ VÝDAJE (hrazené zaměstnancem)
L64: CZK | S64: Zde je třeba vyplnit hodnotu ostatních výdajů souvisejících s pracovní/služební cestou, které hradil zaměstnanec ze svého.
L65: CZK | S65: Může se jednat např. o ubytování v hotelu, jízdenky, taxi apod.
L66: CZK | S66: Do této tabulky se vyplňují pouze výdaje hrazené zaměstnancem z jeho soukromých prostředků.
A67: Celkem ostatní výdaje | K67: =SUM(K64:K66) -> 0 | L67: CZK | S67: Kopie dokladů (stvrzenky) tvoří nedílnou součást vyúčtování pracovní cesty!
A70: REKAPITULACE
A71: Zahraniční část
C72: Měna | D72: Částka | E72: =CONCATENATE("Kurz vůči ",$E$35) -> #N/A | F72: Částka v CZK | S72: Pole "Ostatní výdaje - v měně vyúčtování"
A73: Celkem stravné a kapesné | C73: =F6 -> #N/A | D73: =+K44 -> 0 | E73: =L6 -> 0 | F73: =D73*E73 -> 0 | S73: Je třeba ručně sečíst výdaje uvedené v tabulce výdajů výše dle jednotlivých měn.
A74: Celkem stravné a kapesné (z přílohy) | C74: x | D74: x | E74: x | F74: =IF(E25="ANO",+'Zahraniční cestovné_příloha'!K44+'Zahraniční cestovné_příloha'!K78+'Zahraniční cestovné_příloha'!K112,0) -> 0
A75: Ostatní výdaje - v měně vyúčtování | C75: =F6 -> #N/A | E75: =L6 -> 0 | F75: =D75*E75 -> 0
A76: Ostatní výdaje - ostatní měna | F76: =D76*E76 -> 0
A77: Ostatní výdaje - ostatní měna | F77: =D77*E77 -> 0 | S77: Pole "přijatá záloha" se vyplní tehdy, byla-li poskytnuta před nástupem na pracovní
A78: Vyplacená záloha (záporné znaménko) | C78: =F6 -> #N/A | E78: =E73 -> 0 | F78: =D78*E78 -> 0 | S78: cestu záloha v hotovosti/na účet.
A79: Nedoplatek (+)/přeplatek (-) | F79: =SUM(F73:F78) -> 0 | S79: Pokud byla poskytnuta záloha, je nutné tento údaj do pole zapsat se záporným znaménkem!
A81: Tuzemská část | S81: Pokud byla záloha na SC poskytnuta v Kč, zapíše se údaj do tabulky "Tuzemská část" níže.
E82: Počet dnů pracovní cesty | F82: Částka
A83: Celkem stravné | E83: =SUM(B58:B60) -> 0 | F83: =K61 -> 0 | G83: CZK | S83: Pole "Celkem při vyúčtování v CZK"
A84: Ostatní výdaje | E84: x | F84: =SUM(K67) -> 0 | G84: CZK | S84: - pokud vyjde kladná hodnota (+)/nedoplatek - jedná se o nárok zaměstnance/účastníka SC k výplatě
A85: Náhrada za použití soukromého vozidla | E85: x | F85: =IF(B21="Soukromým vozidlem",+'Soukromé vozidlo'!D20,0) -> 0 | S85: - pokud vyjde záporná hodnota (-)/přeplatek - zaměstnanec vrací zaměstnavateli
A86: záloha vyplacená zaměstnanci (vyplňuje se se záporným znaménkem) | E86: x | G86: CZK
A87: Nedoplatek (+)/přeplatek (-) | F87: =SUM(F83:F86) -> 0 | G87: CZK
A89: Celkem při vyúčtování v CZK (zaokrouhleno na celé CZK) | G89: =CEILING(F79+F87,1) -> 0 | S89: Vyúčtování pracovní cesty je třeba řádně a pečlivě vyplnit.
A92: Vypracoval dne:
A95: S vyúčtováním souhlasím.
A104: OSTATNÍ VÝDAJE (hrazené zaměstnavatelem) | S104: OSTATNÍ VÝDAJE (hrazené zaměstnavatelem)
A105: Dodavatel | B105: Datum | D105: VS | E105: Typ výdaje | G105: měna (CM) | K105: Celkem (CM) | L105: Celkem (Kč)
L106: 0 | S106: Do této tabulky se vyplní informace o všech dokladech/výdajích hrazených zaměstnavatelem,
L107: 0 | S107: které jsou evidované v účetnictví mimo vyúčtování pracovní cesty, avšak s cestou nákladově souvisí
L108: 0
L109: 0 | S109: Sl. "Typ výdaje" např.ubytování, jízdenky, taxi, aj.
L110: 0
A111: Celkem ostatní výdaje | L111: =CEILING(SUM(L106:L110),1) -> 0 | S111: KDY JE NÁROK NA STRAVNÉ/"DIETY":
S112: - pokud pracovník uplatňuje nárok na stravné, doklady za občerstvení, hrazené ze "svého" do vyúčtování nevkládá
A113: Vyúčtování za pracovní cestu celkem | L113: =F73+F74+F75+F76+F77+F83+F84+F85+L111 -> 0 | S113: - pokud pracovník ať už ze "svého" či firemní kartou hradí pohoštění klienta/investora/externisty a sám se takového občerstvení účastní,
S114: musí o toto jídlo pokrátit nárok na stravné a doklad uvést do příslušné tabulky vyúčtování (ze svého -> hrazené zam-cem, firemní karta -> hrazené zam-elem
S115: - pokud pracovník uplatňuje nárok na stravné NELZE firemní kartou hradit občerstvení pro sebe. pokud se však stane, musí stravné o toto jídlo pokrátit
A118: Služebním vozidlem
A119: Spolujezdec
A120: Soukromým vozidlem
A121: Hromadnou dopravou
A122: Letadlem
A123: Služebním bicyklem
A124: Soukromým bicyklem
A125: Pěšky
A126: jinak
A129: ANO
A130: NE

Sheet Zahraniční cestovné_příloha
A3: VYÚČTOVÁNÍ ZAHRANIČNÍ PRACOVNÍ CESTY - PŘÍLOHA | S3: POKYNY K VYPLNĚNÍ
A6: Firma: | S6: Prosím, na tomto listu vyplňujte pouze bílá pole.
A7: Účastník služební cesty:
A8: Spolucestující: | S8: Firma: název zaměstnavatele
A9: Místo jednání: | S9: Účastník: zaměstnanec
A10: Účel cesty:
A13: 1.země: | E13: Zkratka měny: | F13: =IF(B13=0,0,VLOOKUP($B$13,Zahr.stravné_2026!$A$1:$D$179,2,FALSE)) -> 0 | K13: Kurz
C15: Datum | E15: Čas | S15: Datum ve formátu DD.MM.RRRR | X15: ! Pokud nejsou datum a čas vyplněné ve správném formátu,
A16: Zahájení cesty dne: | D16: v | F16: hod. | S16: Časový formát H:MM (24) | X16: nárok na stravné se spočítá CHYBNĚ!
A17: Překročení hranice (odlet) dne: | D17: v | F17: hod.
S18: Pole "Zkratka měny" se doplní automaticky dle vybrané země - lze vybrat z rozevíracího seznamu
A19: Překročení hranice (přílet) dne: | D19: v | F19: hod. | S19: Pole "Kurz" - dle měny doplníme kurz ČNB ke dni zahájení cesty, případně ke dni poskytnutí zálohy, byla-li poskytnuta.
A20: Ukončení cesty dne: | D20: v | F20: hod.
S21: Pole "Překročení hranice …" - pokyny stejné jako v listě "Zahraniční cestovné"
A22: Způsob dopravy: | S22: Pole "Ukončení cesty dne:" Tato pole se v PŘÍLOZE nevyplňují.
A23: RZ služeb.vozidla:
S25: Pole "Způsob dopravy" - lze vybrat z rozevíracího seznamu
H26: První den zahájení/ukončení | L26: Poslední den zahájení/ukončení
A27: Trvání zahraniční cesty včetně dní příjezdu a odjezdu: | F27: =C20-C16+1 -> 1 | H27: pod 5 hod. | I27: 5-12 hod | J27: 12-18 hod | K27: nad 18 | L27: pod 5 hod. | M27: 5-12 hod | N27: 12-18 hod | O27: nad 18
A28: Trvání tuzemské cesty při zahájení | F28: =C17-C16 -> 0 | G28: =IF(F28=0,(C17+E17)-(C16+E16)+IF(D38=0,C38/24,0),24-E16) -> 0 | H28: =IF((HOUR($G28)+MINUTE($G28)/60)<5,1,0) -> 1 | I28: =IF((HOUR($G28)+MINUTE($G28)/60)<=12,1,0)-H28 -> 0 | J28: =IF((HOUR($G28)+MINUTE($G28)/60)<=18,1,0)-I28-H28 -> 0 | K28: =IF((HOUR($G28)+MINUTE($G28)/60)>18,1,0) -> 0 | L28: =IF(AND($F$28>0,(HOUR($E$17)+MINUTE($E$17)/60+IF(D38=0,C38,0))<5),1,0) -> 0 | M28: =IF(AND($F$28>0,(HOUR($E$17)+MINUTE($E$17)/60+IF(D38=0,C38,0))<=12),1,0)-L28 -> 0 | N28: =IF(AND($F$28>0,(HOUR($E$17)+MINUTE($E$17)/60+IF(D38=0,C38,0))<=18),1,0)-L28-M28 -> 0 | O28: =IF(AND($F$28>0,(HOUR($E$17)+MINUTE($E$17)/60+IF(D38=0,C38,0))>18),1,0) -> 0 | P28: =SUM(H28:O28)-1 -> 0
A29: Trvání tuzemské cesty při ukončení | F29: =C20-C19 -> 0 | G29: =IF(F29=0,(C20+E20)-(C19+E19)+IF(D40=0,C40/24,0),24-E19) -> 0 | H29: =IF((HOUR($G29)+MINUTE($G29)/60)<5,1,0) -> 1 | I29: =IF((HOUR($G29)+MINUTE($G29)/60)<=12,1,0)-H29 -> 0 | J29: =IF((HOUR($G29)+MINUTE($G29)/60)<=18,1,0)-I29-H29 -> 0 | K29: =IF((HOUR($G29)+MINUTE($G29)/60)>18,1,0) -> 0 | L29: =IF(AND($F$29>0,(HOUR($E$20)+MINUTE($E$20)/60+IF(D40=0,C40,0))<5),1,0) -> 0 | M29: =IF(AND($F$29>0,(HOUR($E$20)+MINUTE($E$20)/60+IF(D40=0,C40,0))<=12),1,0)-L29 -> 0 | N29: =IF(AND($F$29>0,(HOUR($E$20)+MINUTE($E$20)/60+IF(D40=0,C40,0))<=18),1,0)-L29-M29 -> 0 | O29: =IF(AND($F$29>0,(HOUR($E$20)+MINUTE($E$20)/60+IF(D40=0,C40,0))>18),1,0) -> 0 | P29: =SUM(H29:O29)-1 -> 0
G30: =IF(C16=C19,SUM(G28:G29),0) -> 0 | H30: =IF((HOUR($G30)+MINUTE($G30)/60)<5,1,0) -> 1 | I30: =IF((HOUR($G30)+MINUTE($G30)/60)<=12,1,0)-H30 -> 0 | J30: =IF((HOUR($G30)+MINUTE($G30)/60)<=18,1,0)-I30-H30 -> 0 | K30: =IF((HOUR($G30)+MINUTE($G30)/60)>18,1,0) -> 0 | L30: =IF(AND($F$29>0,(HOUR($E$20)+MINUTE($E$20)/60)<5),1,0) -> 0 | M30: =IF(AND($F$29>0,(HOUR($E$20)+MINUTE($E$20)/60)<=12),1,0)-L30 -> 0 | N30: =IF(AND($F$29>0,(HOUR($E$20)+MINUTE($E$20)/60)<=18),1,0)-L30-M30 -> 0 | O30: =IF(AND($F$29>0,(HOUR($E$20)+MINUTE($E$20)/60)>18),1,0) -> 0 | P30: =SUM(H30:O30) -> 1
A32: Zahraniční část cestovních náhrad - 1.země
H33: Nárok na stravné v této zemi:
A34: Základní sazba stravného v cizí měně: | D34: =IF(F13=0,0,VLOOKUP($B$13,Zahr.stravné_2026!A1:D179,4,FALSE)) -> 0 | E34: =+F13 -> 0 | H34: x | S34: Pole "Základní sazba stravného v cizí měně" - doplní se automaticky dle vybrané Země!
H35: =IF(C40<12,"NE",IF(AND(C40=12,D34<D68),"NE","ANO")) -> NE
E36: Počet poskytnutých jídel | H36: Krácení stravného za
A37: Dny | B37: počet dnů | C37: počet hodin | D37: stravné | E37: snídaně | F37: oběd | G37: večeře | H37: snídaně | I37: oběd | J37: večeře | K37: Celkem | S37: Poskytuje-li zaměstnavatel zaměstnanci na služební cestě bezplatně jídlo, které má charakter snídaně, oběda nebo večeře
A38: den zahájení prac. cesty | B38: 1 | C38: =IF(C17=C19,HOUR(E19-E17)+MINUTE(E19-E17)/60,HOUR(24-E17)+MINUTE(24-E17)/60) -> 0 | D38: =IF(C38>18,$D$34,IF(C38>12,$D$34/3*2,IF(C38>=1,$D$34/3,0))) -> 0 | H38: =IF(E38=0,0,E38*$D38*IF($D38/$D$34=1,0.25,IF($D38/$D$34=2/3,0.35,0.7))) -> 0 | I38: =IF(F38=0,0,F38*$D38*IF($D38/$D$34=1,0.25,IF($D38/$D$34=2/3,0.35,0.7))) -> 0 | J38: =IF(G38=0,0,G38*$D38*IF($D38/$D$34=1,0.25,IF($D38/$D$34=2/3,0.35,0.7))) -> 0 | K38: =MAX(0,B38*D38-H38-I38-J38) -> 0 | L38: =$E$34 -> 0 | S38: v jakékoliv formě (např. hotelová snídaně), nárok na stravné se krátí v závislosti na počtu takových jídel.
A39: dny cesty delší 18 h/den | B39: =IF(C19-C17>1,C19-C17-1,0) -> 0 | C39: x | D39: =IF(B39=0,0,B39*$D$34) -> 0 | H39: =IF(E39=0,0,E39*$D$34*0.25) -> 0 | I39: =IF(F39=0,0,F39*$D$34*0.25) -> 0 | J39: =IF(G39=0,0,G39*$D$34*0.25) -> 0 | K39: =MAX(0,D39-H39-I39-J39) -> 0 | L39: =$E$34 -> 0
A40: den ukončení prac.cesty | B40: =IF(C19-C17>=1,1,0) -> 0 | C40: =IF(B40=0,0,HOUR(E19)+MINUTE(E19)/60) -> 0 | D40: =IF(C40>18,$D$34,IF(C40>12,$D$34/3*2,IF(AND(C40>=1,H35="ANO"),$D$34/3,0))) -> 0 | H40: =IF(E40=0,0,E40*$D40*IF($D40/$D$34=1,0.25,IF($D40/$D$34=2/3,0.35,0.7))) -> 0 | I40: =IF(F40=0,0,F40*$D40*IF($D40/$D$34=1,0.25,IF($D40/$D$34=2/3,0.35,0.7))) -> 0 | J40: =IF(G40=0,0,G40*$D40*IF($D40/$D$34=1,0.25,IF($D40/$D$34=2/3,0.35,0.7))) -> 0 | K40: =MAX(0,B40*D40-H40-I40-J40) -> 0 | L40: =$E$34 -> 0 | S40: Je třeba doplnit číslicí počet jídel (př. 2 snídaně, 1 oběd, apod.)
A41: Celkem stravné | B41: =SUM(B38:B40) -> 1 | D41: =SUM(D38:D40) -> 0 | E41: =SUM(E38:E40) -> 0 | F41: =SUM(F38:F40) -> 0 | G41: =SUM(G38:G40) -> 0 | H41: =SUM(H38:H40) -> 0 | I41: =SUM(I38:I40) -> 0 | J41: =SUM(J38:J40) -> 0 | K41: =SUM(K38:K40) -> 0 | L41: =$E$34 -> 0 | S41: Počet poskytnutých jídel však NEMŮŽE převýšit počet dnů na řádku
A42: Kapesné ve výši | C42: % | K42: =D41*B42 -> 0 | L42: =$E$34 -> 0 | S42: (př.počet dnů = 1, počet snídaní/jídel MŮŽE být max 1)
A43: Celkem stravné a kapesné v cizí měně | K43: =K41+K42 -> 0 | L43: =$E$34 -> 0 | S43: Zaměstnavatel může, ale nemusí, poskytnout účastníku SC kapesné (max.výše 40% z hodnoty zahr.stravného)
K44: =+K43*L13 -> 0 | L44: CZK | S44: Vyplňuje se v procentech.
A47: 2.země: | E47: Zkratka měny: | F47: =IF(B47=0,0,VLOOKUP($B$47,Zahr.stravné_2026!$A$1:$D$179,2,FALSE)) -> 0 | K47: Kurz
C49: Datum | E49: Čas
A50: Zahájení cesty dne: | D50: v | F50: hod.
A51: Překročení hranice (odlet) dne: | C51: =+C19 -> 0 | D51: v | E51: =+E19 -> 0 | F51: hod.
A53: Překročení hranice (přílet) dne: | D53: v | F53: hod. | S53: Pole "Překročení hranice …" - pokyny stejné jako v listě "Zahraniční cestovné"
A54: Ukončení cesty dne: | D54: v | F54: hod. | S54: Pole "Ukončení cesty dne:" Tato pole se v PŘÍLOZE nevyplňují.
A56: Způsob dopravy:
H60: První den zahájení/ukončení | L60: Poslední den zahájení/ukončení
A61: Trvání zahraniční cesty včetně dní příjezdu a odjezdu: | F61: =C54-C50+1 -> 1 | H61: pod 5 hod. | I61: 5-12 hod | J61: 12-18 hod | K61: nad 18 | L61: pod 5 hod. | M61: 5-12 hod | N61: 12-18 hod | O61: nad 18
A62: Trvání tuzemské cesty při zahájení | F62: =C51-C50 -> 0 | G62: =IF(F62=0,(C51+E51)-(C50+E50)+IF(D72=0,C72/24,0),24-E50) -> 0 | H62: =IF((HOUR($G62)+MINUTE($G62)/60)<5,1,0) -> 1 | I62: =IF((HOUR($G62)+MINUTE($G62)/60)<=12,1,0)-H62 -> 0 | J62: =IF((HOUR($G62)+MINUTE($G62)/60)<=18,1,0)-I62-H62 -> 0 | K62: =IF((HOUR($G62)+MINUTE($G62)/60)>18,1,0) -> 0 | L62: =IF(AND($F$28>0,(HOUR($E$17)+MINUTE($E$17)/60+IF(D72=0,C72,0))<5),1,0) -> 0 | M62: =IF(AND($F$28>0,(HOUR($E$17)+MINUTE($E$17)/60+IF(D72=0,C72,0))<=12),1,0)-L62 -> 0 | N62: =IF(AND($F$28>0,(HOUR($E$17)+MINUTE($E$17)/60+IF(D72=0,C72,0))<=18),1,0)-L62-M62 -> 0 | O62: =IF(AND($F$28>0,(HOUR($E$17)+MINUTE($E$17)/60+IF(D72=0,C72,0))>18),1,0) -> 0 | P62: =SUM(H62:O62)-1 -> 0
A63: Trvání tuzemské cesty při ukončení | F63: =C54-C53 -> 0 | G63: =IF(F63=0,(C54+E54)-(C53+E53)+IF(D74=0,C74/24,0),24-E53) -> 0 | H63: =IF((HOUR($G63)+MINUTE($G63)/60)<5,1,0) -> 1 | I63: =IF((HOUR($G63)+MINUTE($G63)/60)<=12,1,0)-H63 -> 0 | J63: =IF((HOUR($G63)+MINUTE($G63)/60)<=18,1,0)-I63-H63 -> 0 | K63: =IF((HOUR($G63)+MINUTE($G63)/60)>18,1,0) -> 0 | L63: =IF(AND($F$29>0,(HOUR($E$20)+MINUTE($E$20)/60+IF(D74=0,C74,0))<5),1,0) -> 0 | M63: =IF(AND($F$29>0,(HOUR($E$20)+MINUTE($E$20)/60+IF(D74=0,C74,0))<=12),1,0)-L63 -> 0 | N63: =IF(AND($F$29>0,(HOUR($E$20)+MINUTE($E$20)/60+IF(D74=0,C74,0))<=18),1,0)-L63-M63 -> 0 | O63: =IF(AND($F$29>0,(HOUR($E$20)+MINUTE($E$20)/60+IF(D74=0,C74,0))>18),1,0) -> 0 | P63: =SUM(H63:O63)-1 -> 0
G64: =IF(C50=C53,SUM(G62:G63),0) -> 0 | H64: =IF((HOUR($G64)+MINUTE($G64)/60)<5,1,0) -> 1 | I64: =IF((HOUR($G64)+MINUTE($G64)/60)<=12,1,0)-H64 -> 0 | J64: =IF((HOUR($G64)+MINUTE($G64)/60)<=18,1,0)-I64-H64 -> 0 | K64: =IF((HOUR($G64)+MINUTE($G64)/60)>18,1,0) -> 0 | L64: =IF(AND($F$29>0,(HOUR($E$20)+MINUTE($E$20)/60)<5),1,0) -> 0 | M64: =IF(AND($F$29>0,(HOUR($E$20)+MINUTE($E$20)/60)<=12),1,0)-L64 -> 0 | N64: =IF(AND($F$29>0,(HOUR($E$20)+MINUTE($E$20)/60)<=18),1,0)-L64-M64 -> 0 | O64: =IF(AND($F$29>0,(HOUR($E$20)+MINUTE($E$20)/60)>18),1,0) -> 0 | P64: =SUM(H64:O64) -> 1
A66: Zahraniční část cestovních náhrad - 2.země
H67: Nárok na stravné v této zemi:
A68: Základní sazba stravného v cizí měně: | D68: =IF(F47=0,0,VLOOKUP($B$47,Zahr.stravné_2026!A1:D179,4,FALSE)) -> 0 | E68: =+F47 -> 0 | H68: =IF(C72<12,"NE",IF(AND(C72=12,D68<D34),"NE","ANO")) -> NE
H69: =IF(C74<12,"NE",IF(AND(C74=12,D68<D102),"NE","ANO")) -> NE
E70: Počet poskytnutých jídel | H70: Krácení stravného za
A71: Dny | B71: počet dnů | C71: počet hodin | D71: stravné | E71: snídaně | F71: oběd | G71: večeře | H71: snídaně | I71: oběd | J71: večeře | K71: Celkem
A72: den zahájení prac. cesty | B72: 1 | C72: =IF(C51=C53,HOUR(E53-E51)+MINUTE(E53-E51)/60,HOUR(24-E51)+MINUTE(24-E51)/60) -> 0 | D72: =IF(C72>18,$D$68,IF(C72>12,$D$68/3*2,IF(AND(C72>=1,$H68="ANO"),$D$68/3,0))) -> 0 | H72: =IF(E72=0,0,E72*$D72*IF($D72/$D$68=1,0.25,IF($D72/$D$68=2/3,0.35,0.7))) -> 0 | I72: =IF(F72=0,0,F72*$D72*IF($D72/$D$68=1,0.25,IF($D72/$D$68=2/3,0.35,0.7))) -> 0 | J72: =IF(G72=0,0,G72*$D72*IF($D72/$D$68=1,0.25,IF($D72/$D$68=2/3,0.35,0.7))) -> 0 | K72: =MAX(0,B72*D72-H72-I72-J72) -> 0 | L72: =$E$68 -> 0
A73: dny cesty delší 18 h/den | B73: =IF(C53-C51>1,C53-C51-1,0) -> 0 | C73: x | D73: =IF(B73=0,0,B73*$D$68) -> 0 | H73: =IF(E73=0,0,E73*$D$68*0.25) -> 0 | I73: =IF(F73=0,0,F73*$D$68*0.25) -> 0 | J73: =IF(G73=0,0,G73*$D$68*0.25) -> 0 | K73: =MAX(0,D73-H73-I73-J73) -> 0 | L73: =$E$68 -> 0
A74: den ukončení prac.cesty | B74: =IF(C53-C51>=1,1,0) -> 0 | C74: =IF(B74=0,0,HOUR(E53)+MINUTE(E53)/60) -> 0 | D74: =IF(C74>18,$D$68,IF(C74>12,$D$68/3*2,IF(AND(C74>=1,$H69="ANO"),$D$68/3,0))) -> 0 | H74: =IF(E74=0,0,E74*$D74*IF($D74/$D$68=1,0.25,IF($D74/$D$68=2/3,0.35,0.7))) -> 0 | I74: =IF(F74=0,0,F74*$D74*IF($D74/$D$68=1,0.25,IF($D74/$D$68=2/3,0.35,0.7))) -> 0 | J74: =IF(G74=0,0,G74*$D74*IF($D74/$D$68=1,0.25,IF($D74/$D$68=2/3,0.35,0.7))) -> 0 | K74: =MAX(0,B74*D74-H74-I74-J74) -> 0 | L74: =$E$68 -> 0
A75: Celkem stravné | B75: =SUM(B72:B74) -> 1 | D75: =SUM(D72:D74) -> 0 | E75: =SUM(E72:E74) -> 0 | F75: =SUM(F72:F74) -> 0 | G75: =SUM(G72:G74) -> 0 | H75: =SUM(H72:H74) -> 0 | I75: =SUM(I72:I74) -> 0 | J75: =SUM(J72:J74) -> 0 | K75: =SUM(K72:K74) -> 0 | L75: =$E$68 -> 0
A76: Kapesné ve výši | C76: % | K76: =D75*B76 -> 0 | L76: =$E$68 -> 0
A77: Celkem stravné a kapesné v cizí měně | K77: =K75+K76 -> 0 | L77: =$E$68 -> 0
K78: =+K77*L47 -> 0 | L78: CZK
A81: 3.země | E81: Zkratka měny: | F81: =IF(B81=0,0,VLOOKUP($B$81,Zahr.stravné_2026!$A$1:$D$179,2,FALSE)) -> 0 | K81: Kurz
C83: Datum | E83: Čas
A84: Zahájení cesty dne: | D84: v | F84: hod.
A85: Překročení hranice (odlet) dne: | C85: =+C53 -> 0 | D85: v | E85: =IF(E54=0,+E53,0) -> 0 | F85: hod.
A87: Překročení hranice (přílet) dne: | D87: v | F87: hod. | S87: Pole "Překročení hranice …" - pokyny stejné jako v listě "Zahraniční cestovné"
A88: Ukončení cesty dne: | D88: v | F88: hod. | S88: Pole "Ukončení cesty dne:" Tato pole se v PŘÍLOZE nevyplňují.
A90: Způsob dopravy:
H94: První den zahájení/ukončení | L94: Poslední den zahájení/ukončení
A95: Trvání zahraniční cesty včetně dní příjezdu a odjezdu: | F95: =C88-C84+1 -> 1 | H95: pod 5 hod. | I95: 5-12 hod | J95: 12-18 hod | K95: nad 18 | L95: pod 5 hod. | M95: 5-12 hod | N95: 12-18 hod | O95: nad 18
A96: Trvání tuzemské cesty při zahájení | F96: =C85-C84 -> 0 | G96: =IF(F96=0,(C85+E85)-(C84+E84)+IF(D106=0,C106/24,0),24-E84) -> 0 | H96: =IF((HOUR($G96)+MINUTE($G96)/60)<5,1,0) -> 1 | I96: =IF((HOUR($G96)+MINUTE($G96)/60)<=12,1,0)-H96 -> 0 | J96: =IF((HOUR($G96)+MINUTE($G96)/60)<=18,1,0)-I96-H96 -> 0 | K96: =IF((HOUR($G96)+MINUTE($G96)/60)>18,1,0) -> 0 | L96: =IF(AND($F$28>0,(HOUR($E$17)+MINUTE($E$17)/60+IF(D106=0,C106,0))<5),1,0) -> 0 | M96: =IF(AND($F$28>0,(HOUR($E$17)+MINUTE($E$17)/60+IF(D106=0,C106,0))<=12),1,0)-L96 -> 0 | N96: =IF(AND($F$28>0,(HOUR($E$17)+MINUTE($E$17)/60+IF(D106=0,C106,0))<=18),1,0)-L96-M96 -> 0 | O96: =IF(AND($F$28>0,(HOUR($E$17)+MINUTE($E$17)/60+IF(D106=0,C106,0))>18),1,0) -> 0 | P96: =SUM(H96:O96)-1 -> 0
A97: Trvání tuzemské cesty při ukončení | F97: =C88-C87 -> 0 | G97: =IF(F97=0,(C88+E88)-(C87+E87)+IF(D108=0,C108/24,0),24-E87) -> 0 | H97: =IF((HOUR($G97)+MINUTE($G97)/60)<5,1,0) -> 1 | I97: =IF((HOUR($G97)+MINUTE($G97)/60)<=12,1,0)-H97 -> 0 | J97: =IF((HOUR($G97)+MINUTE($G97)/60)<=18,1,0)-I97-H97 -> 0 | K97: =IF((HOUR($G97)+MINUTE($G97)/60)>18,1,0) -> 0 | L97: =IF(AND($F$29>0,(HOUR($E$20)+MINUTE($E$20)/60+IF(D108=0,C108,0))<5),1,0) -> 0 | M97: =IF(AND($F$29>0,(HOUR($E$20)+MINUTE($E$20)/60+IF(D108=0,C108,0))<=12),1,0)-L97 -> 0 | N97: =IF(AND($F$29>0,(HOUR($E$20)+MINUTE($E$20)/60+IF(D108=0,C108,0))<=18),1,0)-L97-M97 -> 0 | O97: =IF(AND($F$29>0,(HOUR($E$20)+MINUTE($E$20)/60+IF(D108=0,C108,0))>18),1,0) -> 0 | P97: =SUM(H97:O97)-1 -> 0
G98: =IF(C84=C87,SUM(G96:G97),0) -> 0 | H98: =IF((HOUR($G98)+MINUTE($G98)/60)<5,1,0) -> 1 | I98: =IF((HOUR($G98)+MINUTE($G98)/60)<=12,1,0)-H98 -> 0 | J98: =IF((HOUR($G98)+MINUTE($G98)/60)<=18,1,0)-I98-H98 -> 0 | K98: =IF((HOUR($G98)+MINUTE($G98)/60)>18,1,0) -> 0 | L98: =IF(AND($F$29>0,(HOUR($E$20)+MINUTE($E$20)/60)<5),1,0) -> 0 | M98: =IF(AND($F$29>0,(HOUR($E$20)+MINUTE($E$20)/60)<=12),1,0)-L98 -> 0 | N98: =IF(AND($F$29>0,(HOUR($E$20)+MINUTE($E$20)/60)<=18),1,0)-L98-M98 -> 0 | O98: =IF(AND($F$29>0,(HOUR($E$20)+MINUTE($E$20)/60)>18),1,0) -> 0 | P98: =SUM(H98:O98) -> 1
A100: Zahraniční část cestovních náhrad - 3.země
H101: Nárok na stravné v této zemi:
A102: Základní sazba stravného v cizí měně: | D102: =IF(F81=0,0,VLOOKUP($B$81,Zahr.stravné_2026!A1:D179,4,FALSE)) -> 0 | E102: =+F81 -> 0 | H102: =IF(C106<12,"NE",IF(AND(C106=12,D102<D68),"NE","ANO")) -> NE
H103: {=IF(C108<12,"NE",IF(AND(C108=12,D102<D),"NE","ANO"))} -> NE
E104: Počet poskytnutých jídel | H104: Krácení stravného za
A105: Dny | B105: počet dnů | C105: počet hodin | D105: stravné | E105: snídaně | F105: oběd | G105: večeře | H105: snídaně | I105: oběd | J105: večeře | K105: Celkem
A106: den zahájení prac. cesty | B106: 1 | C106: =IF(C85=C87,HOUR(E87-E85)+MINUTE(E87-E85)/60,HOUR(24-E85)+MINUTE(24-E85)/60) -> 0 | D106: =IF(C106>18,$D$102,IF(C106>12,$D$102/3*2,IF(AND(C106>=1,$H102="ANO"),$D$102/3,0))) -> 0 | H106: =IF(E106=0,0,E106*$D106*IF($D106/$D$102=1,0.25,IF($D106/$D$102=2/3,0.35,0.7))) -> 0 | I106: =IF(F106=0,0,F106*$D106*IF($D106/$D$102=1,0.25,IF($D106/$D$102=2/3,0.35,0.7))) -> 0 | J106: =IF(G106=0,0,G106*$D106*IF($D106/$D$102=1,0.25,IF($D106/$D$102=2/3,0.35,0.7))) -> 0 | K106: =MAX(0,B106*D106-H106-I106-J106) -> 0 | L106: =$E$102 -> 0
A107: dny cesty delší 18 h/den | B107: =IF(C87-C85>1,C87-C85-1,0) -> 0 | C107: x | D107: =IF(B107=0,0,B107*$D$102) -> 0 | H107: =IF(E107=0,0,E107*$D$102*0.25) -> 0 | I107: =IF(F107=0,0,F107*$D$102*0.25) -> 0 | J107: =IF(G107=0,0,G107*$D$102*0.25) -> 0 | K107: =MAX(0,D107-H107-I107-J107) -> 0 | L107: =$E$102 -> 0
A108: den ukončení prac.cesty | B108: =IF(C87-C85>=1,1,0) -> 0 | C108: =IF(B108=0,0,HOUR(E87)+MINUTE(E87)/60) -> 0 | D108: =IF(C108>18,$D$102,IF(C108>12,$D$102/3*2,IF(AND(C108>=1,$H103="ANO"),$D$102/3,0))) -> 0 | H108: =IF(E108=0,0,E108*$D108*IF($D108/$D$102=1,0.25,IF($D108/$D$102=2/3,0.35,0.7))) -> 0 | I108: =IF(F108=0,0,F108*$D108*IF($D108/$D$102=1,0.25,IF($D108/$D$102=2/3,0.35,0.7))) -> 0 | J108: =IF(G108=0,0,G108*$D108*IF($D108/$D$102=1,0.25,IF($D108/$D$102=2/3,0.35,0.7))) -> 0 | K108: =MAX(0,B108*D108-H108-I108-J108) -> 0 | L108: =$E$102 -> 0
A109: Celkem stravné | B109: =SUM(B106:B108) -> 1 | D109: =SUM(D106:D108) -> 0 | E109: =SUM(E106:E108) -> 0 | F109: =SUM(F106:F108) -> 0 | G109: =SUM(G106:G108) -> 0 | H109: =SUM(H106:H108) -> 0 | I109: =SUM(I106:I108) -> 0 | J109: =SUM(J106:J108) -> 0 | K109: =SUM(K106:K108) -> 0 | L109: =$E$102 -> 0
A110: Kapesné ve výši | C110: % | K110: =D109*B110 -> 0 | L110: =$E$102 -> 0
A111: Celkem stravné a kapesné v cizí měně | K111: =K109+K110 -> 0 | L111: =$E$102 -> 0
K112: =+K111*L81 -> 0 | L112: CZK
A120: Služebním vozidlem
A121: Služebním vozidlem jako spolujezdec
A122: Soukromým vozidlem
A123: Hromadnou dopravou
A124: Letadlem
A125: Služebním bicyklem
A126: Soukromým bicyklem
A127: Pěšky
A128: jinak

Sheet Soukromé vozidlo
A2: VYÚČTOVÁNÍ TUZEMSKÉ SLUŽEBNÍ CESTY - výpočet náhrad za použití soukromého vozidla | J2: POKYNY K VYPLNĚNÍ
A4: Firma: | J4: Firma: název zaměstnavatele
A5: Účastník služební cesty: | F5: RZ vozidla: | J5: Účastník: zaměstnanec
A6: Místo jednání: | J6: RZ vozidla: dle TP, "po staru" SPZ
A7: Účel cesty: | J7: V případě, že zaměstnavatel odsouhlasil použití soukromého vozidla k pracovní cestě,
J8: je zaměstnanec povinen předložit zaměstnavateli VTP a ponechat jeho kopii.
B9: Náhrada za ujeté kilometry
B11: ujeté km | C11: Sazba | D11: Celkem Kč | J11: Pole "Ujeté km" | P11: Pole "Sazba"
C12: 5.9 | D12: =B12*C12 -> 0 | J12: - doplnit počet km ujetých na pracovní cestě pro firemní účely | P12: - vybrat ze seznamu | R12: 1.6 | S12: jednostopé v.
R13: 5.9 | S13: osobní vozidlo
B14: Náhrada za spotřebované pohonné hmoty
J15: Pole "Průměrná spotřeba dle TP"
B16: Průměrná spotřeba dle TP | C16: Cena* PHM | D16: Kč | J16: - u většiny používaných vozidel se použije třetí údaj z velkého TP
D17: =B12*B17/100*C17 -> 0 | J17: výjimky viz tabulka níže
B20: Celkem náhrada | D20: =CEILING(D12+D17,1) -> 0 | J20: Pole "Cena PHM"
J21: - skutečná cena PHM za litr (dle dokladu) nebo dle tabulky vlevo
A23: Průměrná cen PHM (Kč) pro rok 2026 (dle vyhlášky MPSV)
A25: Benzin automobilový 95 oktanů | D25: 34.7
A26: Benzin automobilový 98 oktanů | D26: 39
A27: Motorová nafta | D27: 34.1
A28: Elektřina | D28: 7.2

Sheet Zahr.stravné_2026
A1: Země | B1: Měnový kód | C1: Měna | D1: Základní sazby stravného
A2: Afghánistán | B2: EUR | C2: euro | D2: 45
A3: Albánie | B3: EUR | C3: euro | D3: 40
A4: Alžírsko | B4: EUR | C4: euro | D4: 50
A5: Andorra | B5: EUR | C5: euro | D5: 50
A6: Angola | B6: EUR | C6: euro | D6: 60
A7: Argentina | B7: USD | C7: americký dolar | D7: 55
A8: Arménie | B8: EUR | C8: euro | D8: 50
A9: Austrálie a Oceánie – ostrovní státy1) | B9: USD | C9: americký dolar | D9: 70
A10: Ázerbájdžán | B10: EUR | C10: euro | D10: 40
A11: Bahamy | B11: USD | C11: americký dolar | D11: 60
A12: Bahrajn | B12: EUR | C12: euro | D12: 45
A13: Bangladéš | B13: USD | C13: americký dolar | D13: 50
... A179: Ostatní země neuvedené v příloze | B179: EUR | C179: euro | D179: 35

Sheet vyhláška_tuzem.stravné_2026
B2: Vyhláška č.573/2025 Sb. ze dne 18. prosinec 2025 (účinnost od 1.1.2026)
B3: - o změně sazby základní náhrady za používání silničních motorových vozidel a stravného
B4: a o stanovení průměrné ceny pohonných hmot pro účely poskytování cestovních náhrad
B5: pro rok 2026
